BEGIN:VCALENDAR
VERSION:2.0
PRODID:-//wp-events-plugin.com//7.2.3.1//EN
TZID:Europe/Berlin
X-WR-TIMEZONE:Europe/Berlin
BEGIN:VEVENT
UID:3@philemons-garten.at
DTSTART;TZID=Europe/Berlin:20260509T140000
DTEND;TZID=Europe/Berlin:20260509T160000
DTSTAMP:20260129T154714Z
URL:https://www.philemons-garten.at/events/hochzeit-von-martha-paul/
SUMMARY:Hochzeit von Martha & Paul
DESCRIPTION:Die beiden wünschen sich eine Hochzeit im Grünen
ATTACH;FMTTYPE=image/jpeg:https://www.philemons-garten.at/wp-content/uploa
 ds/2024/01/garten-hochzeit-22.webp
END:VEVENT
BEGIN:VTIMEZONE
TZID:Europe/Berlin
X-LIC-LOCATION:Europe/Berlin
BEGIN:DAYLIGHT
DTSTART:20260329T030000
TZOFFSETFROM:+0100
TZOFFSETTO:+0200
TZNAME:CEST
END:DAYLIGHT
END:VTIMEZONE
END:VCALENDAR