BEGIN:VCALENDAR
VERSION:2.0
PRODID:-//wp-events-plugin.com//7.2.3.1//EN
TZID:Europe/Berlin
X-WR-TIMEZONE:Europe/Berlin
BEGIN:VEVENT
UID:2@philemons-garten.at
DTSTART;TZID=Europe/Berlin:20260509T000000
DTEND;TZID=Europe/Berlin:20260510T190000
DTSTAMP:20260129T110530Z
URL:https://www.philemons-garten.at/events/muttertags-wochenende/
SUMMARY:MUTTERTAGS-WOCHENENDE
DESCRIPTION:Verkauf von Pflanzenraritäten von persischen Rosen bis Zistros
 en\, Kunsthandwerk\, kulinarische Spezialitäten aus aller Welt.
ATTACH;FMTTYPE=image/jpeg:https://www.philemons-garten.at/wp-content/uploa
 ds/2024/01/garten-fruehling35.webp
END:VEVENT
BEGIN:VTIMEZONE
TZID:Europe/Berlin
X-LIC-LOCATION:Europe/Berlin
BEGIN:DAYLIGHT
DTSTART:20260329T030000
TZOFFSETFROM:+0100
TZOFFSETTO:+0200
TZNAME:CEST
END:DAYLIGHT
END:VTIMEZONE
END:VCALENDAR